Workbook

Sheet Ohne Auswahl
A1: E-Dart Liga Hofheim - Spielbericht
A2: Ligaleiter: Andreas Dominski - Tel. 0172 6553878 - Email: Spielbericht@hofheimer-edart-liga.de | CF2: Saison 2026
A4: Heim | X4: Ers. | AB4: Bestleistungen | BA4: Datum: | BS4: Spielbeginn: | CJ4: Spieltag:
E5: Spieler | AB5: 180 | AF5: 171 | AJ5: High Finish | AV5: Pkt.
A6: 1 | BC6: Ers | BE6: Heim Spielpaarungen Gast | CH6: Ers | CJ6: Sätze | CO6: Spiele
A7: 2 | BA7: D | BS7: - | CL7: : | CQ7: :
A8: 3 | BS8: -
A9: 4 | BA9: E | BS9: - | CL9: : | CQ9: :
A10: 5 | BA10: E | BS10: - | CL10: : | CQ10: :
A11: 6 | BA11: D | BS11: - | CL11: : | CQ11: :
A12: 7 | BS12: -
A13: 8 | BA13: E | BS13: - | CL13: : | CQ13: :
A14: 9 | BA14: E | BS14: - | CL14: : | CQ14: :
A15: 10 | BA15: Trinkpause
A16: 11 | BA16: D | BS16: - | CL16: : | CQ16: :
A17: 12 | BS17: -
A18: Gast | X18: Ers. | AB18: Bestleistungen | BA18: E | BS18: - | CL18: : | CQ18: :
E19: Spieler | AB19: 180 | AF19: 171 | AJ19: High Finish | AV19: Pkt. | BA19: E | BS19: - | CL19: : | CQ19: :
A20: 1 | BA20: D | BS20: - | CL20: : | CQ20: :
A21: 2 | BS21: -
A22: 3 | BA22: E | BS22: - | CL22: : | CQ22: :
A23: 4 | BA23: E | BS23: - | CL23: : | CQ23: :
A24: 5
A25: 6 | BA25: Spielergebnis = | BN25: Sätze | BT25: : | CD25: Spiele | CK25: :
A26: 7
A27: 8
A28: 9
A29: 10
A30: 11
A31: 12 | BA31: Unterschrift Heimmannschaft | BX31: Unterschrift Gastmannschaft

Sheet Mit Auswahl
A1: E-Dart Liga Hofheim - Spielbericht
A2: Ligaleiter: Andreas Dominski - Tel. 0172 6553878 - Email: Spielbericht@hofheimer-edart-liga.de | CF2: Saison 2026
A4: Heim | X4: Ers. | AB4: Bestleistungen | BA4: Datum: | BS4: Spielbeginn: | CJ4: Spieltag:
E5: Spieler | AB5: 180 | AF5: 171 | AJ5: High Finish | AV5: Pkt.
A6: 1 | C6: =IF($E$4=Manschaften!A$14,Manschaften!A15,IF($E$4=Manschaften!B$14,Manschaften!B15,IF($E$4=Manschaften!C$14,Manschaften!C15,IF($E$4=Manschaften!D$14,Manschaften!D15,IF($E$4=Manschaften!F$14,Manschaften!F15,IF($E$4=Manschaften!E$14,Manschaften!E15,IF($E$4=Manschaften!F$14,Manschaften!F15,IF($E$4=Manschaften!F$14,Manschaften!F15,IF($E$4=Manschaften!G$14,Manschaften!G15,IF($E$4=Manschaften!H$14,Manschaften!H15,IF($E$4=Manschaften!I$14,Manschaften!I15,IF($E$4=Manschaften!J$14,Manschaften!J15,"")))))))))))) | BC6: Ers | BE6: Heim Spielpaarungen Gast | CH6: Ers | CJ6: Sätze | CO6: Spiele
A7: 2 | C7: =IF($E$4=Manschaften!A$14,Manschaften!A16,IF($E$4=Manschaften!B$14,Manschaften!B16,IF($E$4=Manschaften!C$14,Manschaften!C16,IF($E$4=Manschaften!D$14,Manschaften!D16,IF($E$4=Manschaften!F$14,Manschaften!F16,IF($E$4=Manschaften!E$14,Manschaften!E16,IF($E$4=Manschaften!F$14,Manschaften!F16,IF($E$4=Manschaften!F$14,Manschaften!F16,IF($E$4=Manschaften!G$14,Manschaften!G16,IF($E$4=Manschaften!H$14,Manschaften!H16,IF($E$4=Manschaften!I$14,Manschaften!I16,IF($E$4=Manschaften!J$14,Manschaften!J16,"")))))))))))) | BA7: D | BS7: - | CL7: : | CQ7: :
A8: 3 | C8: =IF($E$4=Manschaften!A$14,Manschaften!A17,IF($E$4=Manschaften!B$14,Manschaften!B17,IF($E$4=Manschaften!C$14,Manschaften!C17,IF($E$4=Manschaften!D$14,Manschaften!D17,IF($E$4=Manschaften!F$14,Manschaften!F17,IF($E$4=Manschaften!E$14,Manschaften!E17,IF($E$4=Manschaften!F$14,Manschaften!F17,IF($E$4=Manschaften!F$14,Manschaften!F17,IF($E$4=Manschaften!G$14,Manschaften!G17,IF($E$4=Manschaften!H$14,Manschaften!H17,IF($E$4=Manschaften!I$14,Manschaften!I17,IF($E$4=Manschaften!J$14,Manschaften!J17,"")))))))))))) | BS8: -
A9: 4 | C9: =IF($E$4=Manschaften!A$14,Manschaften!A18,IF($E$4=Manschaften!B$14,Manschaften!B18,IF($E$4=Manschaften!C$14,Manschaften!C18,IF($E$4=Manschaften!D$14,Manschaften!D18,IF($E$4=Manschaften!F$14,Manschaften!F18,IF($E$4=Manschaften!E$14,Manschaften!E18,IF($E$4=Manschaften!F$14,Manschaften!F18,IF($E$4=Manschaften!F$14,Manschaften!F18,IF($E$4=Manschaften!G$14,Manschaften!G18,IF($E$4=Manschaften!H$14,Manschaften!H18,IF($E$4=Manschaften!I$14,Manschaften!I18,IF($E$4=Manschaften!J$14,Manschaften!J18,"")))))))))))) | BA9: E | BS9: - | CL9: : | CQ9: :
A10: 5 | C10: =IF($E$4=Manschaften!A$14,Manschaften!A19,IF($E$4=Manschaften!B$14,Manschaften!B19,IF($E$4=Manschaften!C$14,Manschaften!C19,IF($E$4=Manschaften!D$14,Manschaften!D19,IF($E$4=Manschaften!F$14,Manschaften!F19,IF($E$4=Manschaften!E$14,Manschaften!E19,IF($E$4=Manschaften!F$14,Manschaften!F19,IF($E$4=Manschaften!F$14,Manschaften!F19,IF($E$4=Manschaften!G$14,Manschaften!G19,IF($E$4=Manschaften!H$14,Manschaften!H19,IF($E$4=Manschaften!I$14,Manschaften!I19,IF($E$4=Manschaften!J$14,Manschaften!J19,"")))))))))))) | BA10: E | BS10: - | CL10: : | CQ10: :
A11: 6 | C11: =IF($E$4=Manschaften!A$14,Manschaften!A20,IF($E$4=Manschaften!B$14,Manschaften!B20,IF($E$4=Manschaften!C$14,Manschaften!C20,IF($E$4=Manschaften!D$14,Manschaften!D20,IF($E$4=Manschaften!F$14,Manschaften!F20,IF($E$4=Manschaften!E$14,Manschaften!E20,IF($E$4=Manschaften!F$14,Manschaften!F20,IF($E$4=Manschaften!F$14,Manschaften!F20,IF($E$4=Manschaften!G$14,Manschaften!G20,IF($E$4=Manschaften!H$14,Manschaften!H20,IF($E$4=Manschaften!I$14,Manschaften!I20,IF($E$4=Manschaften!J$14,Manschaften!J20,"")))))))))))) | BA11: D | BS11: - | CL11: : | CQ11: :
A12: 7 | C12: =IF($E$4=Manschaften!A$14,Manschaften!A21,IF($E$4=Manschaften!B$14,Manschaften!B21,IF($E$4=Manschaften!C$14,Manschaften!C21,IF($E$4=Manschaften!D$14,Manschaften!D21,IF($E$4=Manschaften!F$14,Manschaften!F21,IF($E$4=Manschaften!E$14,Manschaften!E21,IF($E$4=Manschaften!F$14,Manschaften!F21,IF($E$4=Manschaften!F$14,Manschaften!F21,IF($E$4=Manschaften!G$14,Manschaften!G21,IF($E$4=Manschaften!H$14,Manschaften!H21,IF($E$4=Manschaften!I$14,Manschaften!I21,IF($E$4=Manschaften!J$14,Manschaften!J21,"")))))))))))) | BS12: -
A13: 8 | C13: =IF($E$4=Manschaften!A$14,Manschaften!A22,IF($E$4=Manschaften!B$14,Manschaften!B22,IF($E$4=Manschaften!C$14,Manschaften!C22,IF($E$4=Manschaften!D$14,Manschaften!D22,IF($E$4=Manschaften!F$14,Manschaften!F22,IF($E$4=Manschaften!E$14,Manschaften!E22,IF($E$4=Manschaften!F$14,Manschaften!F22,IF($E$4=Manschaften!F$14,Manschaften!F22,IF($E$4=Manschaften!G$14,Manschaften!G22,IF($E$4=Manschaften!H$14,Manschaften!H22,IF($E$4=Manschaften!I$14,Manschaften!I22,IF($E$4=Manschaften!J$14,Manschaften!J22,"")))))))))))) | BA13: E | BS13: - | CL13: : | CQ13: :
A14: 9 | C14: =IF($E$4=Manschaften!A$14,Manschaften!A23,IF($E$4=Manschaften!B$14,Manschaften!B23,IF($E$4=Manschaften!C$14,Manschaften!C23,IF($E$4=Manschaften!D$14,Manschaften!D23,IF($E$4=Manschaften!F$14,Manschaften!F23,IF($E$4=Manschaften!E$14,Manschaften!E23,IF($E$4=Manschaften!F$14,Manschaften!F23,IF($E$4=Manschaften!F$14,Manschaften!F23,IF($E$4=Manschaften!G$14,Manschaften!G23,IF($E$4=Manschaften!H$14,Manschaften!H23,IF($E$4=Manschaften!I$14,Manschaften!I23,IF($E$4=Manschaften!J$14,Manschaften!J23,"")))))))))))) | BA14: E | BS14: - | CL14: : | CQ14: :
A15: 10 | C15: =IF($E$4=Manschaften!A$14,Manschaften!A24,IF($E$4=Manschaften!B$14,Manschaften!B24,IF($E$4=Manschaften!C$14,Manschaften!C24,IF($E$4=Manschaften!D$14,Manschaften!D24,IF($E$4=Manschaften!F$14,Manschaften!F24,IF($E$4=Manschaften!E$14,Manschaften!E24,IF($E$4=Manschaften!F$14,Manschaften!F24,IF($E$4=Manschaften!F$14,Manschaften!F24,IF($E$4=Manschaften!G$14,Manschaften!G24,IF($E$4=Manschaften!H$14,Manschaften!H24,IF($E$4=Manschaften!I$14,Manschaften!I24,IF($E$4=Manschaften!J$14,Manschaften!J24,"")))))))))))) | BA15: Trinkpause
A16: 11 | C16: =IF($E$4=Manschaften!A$14,Manschaften!A25,IF($E$4=Manschaften!B$14,Manschaften!B25,IF($E$4=Manschaften!C$14,Manschaften!C25,IF($E$4=Manschaften!D$14,Manschaften!D25,IF($E$4=Manschaften!F$14,Manschaften!F25,IF($E$4=Manschaften!E$14,Manschaften!E25,IF($E$4=Manschaften!F$14,Manschaften!F25,IF($E$4=Manschaften!F$14,Manschaften!F25,IF($E$4=Manschaften!G$14,Manschaften!G25,IF($E$4=Manschaften!H$14,Manschaften!H25,IF($E$4=Manschaften!I$14,Manschaften!I25,IF($E$4=Manschaften!J$14,Manschaften!J25,"")))))))))))) | BA16: D | BS16: - | CL16: : | CQ16: :
A17: 12 | C17: =IF($E$4=Manschaften!A$14,Manschaften!A26,IF($E$4=Manschaften!B$14,Manschaften!B26,IF($E$4=Manschaften!C$14,Manschaften!C26,IF($E$4=Manschaften!D$14,Manschaften!D26,IF($E$4=Manschaften!F$14,Manschaften!F26,IF($E$4=Manschaften!E$14,Manschaften!E26,IF($E$4=Manschaften!F$14,Manschaften!F26,IF($E$4=Manschaften!F$14,Manschaften!F26,IF($E$4=Manschaften!G$14,Manschaften!G26,IF($E$4=Manschaften!H$14,Manschaften!H26,IF($E$4=Manschaften!I$14,Manschaften!I26,IF($E$4=Manschaften!J$14,Manschaften!J26,"")))))))))))) | BS17: -
A18: Gast | X18: Ers. | AB18: Bestleistungen | BA18: E | BS18: - | CL18: : | CQ18: :
E19: Spieler | AB19: 180 | AF19: 171 | AJ19: High Finish | AV19: Pkt. | BA19: E | BS19: - | CL19: : | CQ19: :
A20: 1 | C20: =IF($E$18=Manschaften!A$14,Manschaften!A15,IF($E$18=Manschaften!B$14,Manschaften!B15,IF($E$18=Manschaften!C$14,Manschaften!C15,IF($E$18=Manschaften!D$14,Manschaften!D15,IF($E$18=Manschaften!E$14,Manschaften!E15,IF($E$18=Manschaften!F$14,Manschaften!F15,IF($E$18=Manschaften!G$14,Manschaften!G15,IF($E$18=Manschaften!H$14,Manschaften!H15,IF($E$18=Manschaften!I$14,Manschaften!I15,IF($E$18=Manschaften!J$14,Manschaften!J15,"")))))))))) | BA20: D | BS20: - | CL20: : | CQ20: :
A21: 2 | C21: =IF($E$18=Manschaften!A$14,Manschaften!A16,IF($E$18=Manschaften!B$14,Manschaften!B16,IF($E$18=Manschaften!C$14,Manschaften!C16,IF($E$18=Manschaften!D$14,Manschaften!D16,IF($E$18=Manschaften!E$14,Manschaften!E16,IF($E$18=Manschaften!F$14,Manschaften!F16,IF($E$18=Manschaften!G$14,Manschaften!G16,IF($E$18=Manschaften!H$14,Manschaften!H16,IF($E$18=Manschaften!I$14,Manschaften!I16,IF($E$18=Manschaften!J$14,Manschaften!J16,"")))))))))) | BS21: -
A22: 3 | C22: =IF($E$18=Manschaften!A$14,Manschaften!A17,IF($E$18=Manschaften!B$14,Manschaften!B17,IF($E$18=Manschaften!C$14,Manschaften!C17,IF($E$18=Manschaften!D$14,Manschaften!D17,IF($E$18=Manschaften!E$14,Manschaften!E17,IF($E$18=Manschaften!F$14,Manschaften!F17,IF($E$18=Manschaften!G$14,Manschaften!G17,IF($E$18=Manschaften!H$14,Manschaften!H17,IF($E$18=Manschaften!I$14,Manschaften!I17,IF($E$18=Manschaften!J$14,Manschaften!J17,"")))))))))) | BA22: E | BS22: - | CL22: : | CQ22: :
A23: 4 | C23: =IF($E$18=Manschaften!A$14,Manschaften!A18,IF($E$18=Manschaften!B$14,Manschaften!B18,IF($E$18=Manschaften!C$14,Manschaften!C18,IF($E$18=Manschaften!D$14,Manschaften!D18,IF($E$18=Manschaften!E$14,Manschaften!E18,IF($E$18=Manschaften!F$14,Manschaften!F18,IF($E$18=Manschaften!G$14,Manschaften!G18,IF($E$18=Manschaften!H$14,Manschaften!H18,IF($E$18=Manschaften!I$14,Manschaften!I18,IF($E$18=Manschaften!J$14,Manschaften!J18,"")))))))))) | BA23: E | BS23: - | CL23: : | CQ23: :
A24: 5 | C24: =IF($E$18=Manschaften!A$14,Manschaften!A19,IF($E$18=Manschaften!B$14,Manschaften!B19,IF($E$18=Manschaften!C$14,Manschaften!C19,IF($E$18=Manschaften!D$14,Manschaften!D19,IF($E$18=Manschaften!E$14,Manschaften!E19,IF($E$18=Manschaften!F$14,Manschaften!F19,IF($E$18=Manschaften!G$14,Manschaften!G19,IF($E$18=Manschaften!H$14,Manschaften!H19,IF($E$18=Manschaften!I$14,Manschaften!I19,IF($E$18=Manschaften!J$14,Manschaften!J19,""))))))))))
A25: 6 | C25: =IF($E$18=Manschaften!A$14,Manschaften!A20,IF($E$18=Manschaften!B$14,Manschaften!B20,IF($E$18=Manschaften!C$14,Manschaften!C20,IF($E$18=Manschaften!D$14,Manschaften!D20,IF($E$18=Manschaften!E$14,Manschaften!E20,IF($E$18=Manschaften!F$14,Manschaften!F20,IF($E$18=Manschaften!G$14,Manschaften!G20,IF($E$18=Manschaften!H$14,Manschaften!H20,IF($E$18=Manschaften!I$14,Manschaften!I20,IF($E$18=Manschaften!J$14,Manschaften!J20,"")))))))))) | BA25: Spielergebnis = | BN25: Sätze | BT25: : | CD25: Spiele | CK25: :
A26: 7 | C26: =IF($E$18=Manschaften!A$14,Manschaften!A21,IF($E$18=Manschaften!B$14,Manschaften!B21,IF($E$18=Manschaften!C$14,Manschaften!C21,IF($E$18=Manschaften!D$14,Manschaften!D21,IF($E$18=Manschaften!E$14,Manschaften!E21,IF($E$18=Manschaften!F$14,Manschaften!F21,IF($E$18=Manschaften!G$14,Manschaften!G21,IF($E$18=Manschaften!H$14,Manschaften!H21,IF($E$18=Manschaften!I$14,Manschaften!I21,IF($E$18=Manschaften!J$14,Manschaften!J21,""))))))))))
A27: 8 | C27: =IF($E$18=Manschaften!A$14,Manschaften!A22,IF($E$18=Manschaften!B$14,Manschaften!B22,IF($E$18=Manschaften!C$14,Manschaften!C22,IF($E$18=Manschaften!D$14,Manschaften!D22,IF($E$18=Manschaften!E$14,Manschaften!E22,IF($E$18=Manschaften!F$14,Manschaften!F22,IF($E$18=Manschaften!G$14,Manschaften!G22,IF($E$18=Manschaften!H$14,Manschaften!H22,IF($E$18=Manschaften!I$14,Manschaften!I22,IF($E$18=Manschaften!J$14,Manschaften!J22,""))))))))))
A28: 9 | C28: =IF($E$18=Manschaften!A$14,Manschaften!A23,IF($E$18=Manschaften!B$14,Manschaften!B23,IF($E$18=Manschaften!C$14,Manschaften!C23,IF($E$18=Manschaften!D$14,Manschaften!D23,IF($E$18=Manschaften!E$14,Manschaften!E23,IF($E$18=Manschaften!F$14,Manschaften!F23,IF($E$18=Manschaften!G$14,Manschaften!G23,IF($E$18=Manschaften!H$14,Manschaften!H23,IF($E$18=Manschaften!I$14,Manschaften!I23,IF($E$18=Manschaften!J$14,Manschaften!J23,""))))))))))
A29: 10 | C29: =IF($E$18=Manschaften!A$14,Manschaften!A24,IF($E$18=Manschaften!B$14,Manschaften!B24,IF($E$18=Manschaften!C$14,Manschaften!C24,IF($E$18=Manschaften!D$14,Manschaften!D24,IF($E$18=Manschaften!E$14,Manschaften!E24,IF($E$18=Manschaften!F$14,Manschaften!F24,IF($E$18=Manschaften!G$14,Manschaften!G24,IF($E$18=Manschaften!H$14,Manschaften!H24,IF($E$18=Manschaften!I$14,Manschaften!I24,IF($E$18=Manschaften!J$14,Manschaften!J24,""))))))))))
A30: 11 | C30: =IF($E$18=Manschaften!A$14,Manschaften!A25,IF($E$18=Manschaften!B$14,Manschaften!B25,IF($E$18=Manschaften!C$14,Manschaften!C25,IF($E$18=Manschaften!D$14,Manschaften!D25,IF($E$18=Manschaften!E$14,Manschaften!E25,IF($E$18=Manschaften!F$14,Manschaften!F25,IF($E$18=Manschaften!G$14,Manschaften!G25,IF($E$18=Manschaften!H$14,Manschaften!H25,IF($E$18=Manschaften!I$14,Manschaften!I25,IF($E$18=Manschaften!J$14,Manschaften!J25,""))))))))))
A31: 12 | C31: =IF($E$18=Manschaften!A$14,Manschaften!A26,IF($E$18=Manschaften!B$14,Manschaften!B26,IF($E$18=Manschaften!C$14,Manschaften!C26,IF($E$18=Manschaften!D$14,Manschaften!D26,IF($E$18=Manschaften!E$14,Manschaften!E26,IF($E$18=Manschaften!F$14,Manschaften!F26,IF($E$18=Manschaften!G$14,Manschaften!G26,IF($E$18=Manschaften!H$14,Manschaften!H26,IF($E$18=Manschaften!I$14,Manschaften!I26,IF($E$18=Manschaften!J$14,Manschaften!J26,"")))))))))) | BA31: Unterschrift Heimmannschaft | BX31: Unterschrift Gastmannschaft

Sheet Manschaften
A1: Mannschaften
A2: Bembelfighter
A3: Blind Darter
A4: DC Lucky Darter
A5: Die Eierköpp
A6: Die Unberechenbaren
A7: Flight Eagles
A8: Glücksschnigger
A9: Stubb-Darter
A10: Triple D
A11: Voll Druff
A14: Bembelfighter | B14: Blind Darter | C14: DC Lucky Darter | D14: Die Eierköpp | E14: Die Unberechenbaren | F14: Flight Eagles | G14: Glücksschnigger | H14: Stubb-Darter | I14: Triple D | J14: Voll Druff
A15: Alexander Thomas (Charly) | B15: Gerwin Jens | C15: Arelakis Laki | D15: Dorn Oilver (Ole) | E15: Dominski Andreas | F15: Arnautis Tasula | G15: Frank Andre | H15: Bleser Jürgen | I15: Barthold Thorsten (Baddo) | J15: Antonello Dario
A16: Dörr Vanessa (Nessi) | B16: Hude Leopold (Leo) | C16: Arelakis Niko | D16: Janocha Catharina (Cathi) | E16: Eich Edith | F16: Awad Carmen | G16: Frank Meiko | H16: Conradi Horst | I16: Bayer Fabian | J16: Beer Alfred
A17: Freund Michael (Micha) | B17: Jeziorski Gaby | C17: Eimermacher Robin | D17: Junker Jürgen (Junki) | E17: Huthmacher Michael | F17: Choszez Matthias (Matze) | G17: Frank Norbert | H17: Heist Jan | I17: Karasu Besra Dila (Bobsi) | J17: Dörr Nicklas (Nikki)
A18: Güttler Robin (Tony) | B18: Jeziorski Harald | C18: Kara Sieglinde (Siggi) | D18: Kaminska Katarzyna (Kasia) | E18: Klös Alexander (Alex) | F18: Hoffmann Kevin | G18: Frank Ute | H18: Ludewig Tobias | I18: Leppla Jens | J18: Dotschat Martina (Tine)
A19: Güttler Sabrina (Bienchen) | B19: Knierim Markus | C19: Kratz Linda | D19: Kaminski Thomas (Thomaki) | E19: Krannich Christine | F19: Jaschob Uschi (Triple One) | G19: Hoffmann Maikel | H19: Pohlann Syliva | I19: McNeill Sven (Sammy) | J19: Kirchner Max
A20: Hasel Philipp (Phipsy) | B20: Loosmann Rene | C20: Kratz Lucas | D20: Katinic Elvis | E20: Krannich Hans-Peter (HPK) | F20: Knauerhase Jürgen | G20: Zinnkann Manuela | H20: Pohlann Uwe | I20: Roth Christian (The Mystery) | J20: Martinez Miguel
A21: Kühnemann Thomas (Kühne) | B21: Reininger Michaela | C21: Rosenow David | D21: Rog Christof (Mlody) | E21: Maragliano Marcello | F21: Knödel Timm | H21: Reffel Jasmin | I21: Schneider Kevin (Cloud) | J21: Martinez-Schneider Jenni
A22: Lottermann Dennis (Spitz) | B22: Richter Bernd | C22: Rosenow Fabienne (Fabi) | D22: Schmidt Daniel (Bomber) | E22: Pink Armin | F22: Lemke Thorsten (Bembel) | H22: Ulrich Herbert | I22: Schreiner Luca | J22: Schillings Heike
A23: Martinez Carlos (El Pulpo) | B23: Rihn Marcus | C23: Sumar Suad | D23: Waldmann Günther (Günni) | E23: Ried Frank | F23: Wagner Torsten (Totti) | I23: Speck Patrick (Specki) | J23: Schillings Mike
A24: Samstag Nicolas (Bizeps) | B24: Zwergel Rainer | C24: Sauer Daniela (Danny) | F24: Wiegand Ralf
A25: Wagner Nico (Chicken)
A26: Wolfstädter Timo (Stift)
